
BEGIN:VCALENDAR
VERSION:2.0
PRODID:-//Pennsylvania Developmental Disabilities Council - ECPv6.15.20//NONSGML v1.0//EN
CALSCALE:GREGORIAN
METHOD:PUBLISH
X-WR-CALNAME:Pennsylvania Developmental Disabilities Council
X-ORIGINAL-URL:https://www.paddc.org
X-WR-CALDESC:Events for Pennsylvania Developmental Disabilities Council
REFRESH-INTERVAL;VALUE=DURATION:PT1H
X-Robots-Tag:noindex
X-PUBLISHED-TTL:PT1H
BEGIN:VTIMEZONE
TZID:UTC
BEGIN:STANDARD
TZOFFSETFROM:+0000
TZOFFSETTO:+0000
TZNAME:UTC
DTSTART:20250101T000000
END:STANDARD
END:VTIMEZONE
BEGIN:VEVENT
DTSTART;TZID=UTC:20260511T000000
DTEND;TZID=UTC:20260512T000000
DTSTAMP:20260424T153415
CREATED:20260214T124308Z
LAST-MODIFIED:20260214T124308Z
UID:15093-1778457600-1778544000@www.paddc.org
SUMMARY:35th Annual Aging with Developmental Disabilities Conference
DESCRIPTION:The Annual Aging with Developmental Disabilities Conference has a goal of bringing the aging and developmental disability professionals together to learn about best support models and practices and the most current information on aging with a developmental disability. Through information\, education\, and networking\, participants from across the United States will have a better understanding of both medical care\, medical changes and best practices that will help them support people with developmental disabilities with living their best life as well as end-of-life care.
URL:https://www.paddc.org/event/35th-annual-aging-with-developmental-disabilities-conference/
LOCATION:St. Charles Convention Center\, 1 Convention Center Plaza\, Saint Charles\, MO\, 63303\, United States
CATEGORIES:Conferences
END:VEVENT
BEGIN:VEVENT
DTSTART;TZID=UTC:20260528T080000
DTEND;TZID=UTC:20260528T153000
DTSTAMP:20260424T153415
CREATED:20260412T174821Z
LAST-MODIFIED:20260412T174821Z
UID:15200-1779955200-1779982200@www.paddc.org
SUMMARY:Summer All In Conference
DESCRIPTION:The Conference offers engaging sessions for administrators\, educators\, parents\, and self-advocates—all about inclusive education. The wide variety of workshops gives attendees the skills and resources they need to develop and sustain inclusive learning communities—for all students. Workshops are provided by nationally recognized inclusive education experts\, leaders\, and advocates who have extensive experience in the field. \n 
URL:https://www.paddc.org/event/summer-all-in-conference/
LOCATION:Kean University\, North Ave Academic Building\, 1000 Morris Ave\, Union\, NJ\, 07083\, United States
CATEGORIES:Conferences
ORGANIZER;CN="All In for Inclusive Education":MAILTO:info@allinforinclusiveed.org
END:VEVENT
BEGIN:VEVENT
DTSTART;TZID=UTC:20260804T000000
DTEND;TZID=UTC:20260807T000000
DTSTAMP:20260424T153415
CREATED:20260412T175428Z
LAST-MODIFIED:20260412T175428Z
UID:15204-1785801600-1786060800@www.paddc.org
SUMMARY:Bridging Knowledge to Know-How: Empowering Pennsylvania Educators and Partners
DESCRIPTION:Uniting Pennsylvania’s educators\, community partners\, families\, and youth to explore insights and tools that bridge knowledge and practical application. This conference will bring together Pennsylvania’s educators\, community partners\, families\, and youth to explore the latest insights\, strategies\, and tools that bridge the gap between knowledge and practical application. Sessions will have a specific focus on autism\, sensory disabilities\, secondary transition\, and students with complex instructional needs. Participants will gain tangible strategies to enhance teaching practices\, drive student success\, and adapt to the evolving demands of today’s classrooms.
URL:https://www.paddc.org/event/bridging-knowledge-to-know-how-empowering-pennsylvania-educators-and-partners/
LOCATION:Lancaster County Convention Center\, 25 S Queen St\, Lancaster\, PA\, 17603\, United States
CATEGORIES:Conferences
ORGANIZER;CN="PA Training & Technical Assistance Network - PaTTAN":MAILTO:BridgingRegistration@pattan.net
END:VEVENT
END:VCALENDAR