
BEGIN:VCALENDAR
VERSION:2.0
PRODID:-//Pennsylvania Developmental Disabilities Council - ECPv6.15.20//NONSGML v1.0//EN
CALSCALE:GREGORIAN
METHOD:PUBLISH
X-WR-CALNAME:Pennsylvania Developmental Disabilities Council
X-ORIGINAL-URL:https://www.paddc.org
X-WR-CALDESC:Events for Pennsylvania Developmental Disabilities Council
REFRESH-INTERVAL;VALUE=DURATION:PT1H
X-Robots-Tag:noindex
X-PUBLISHED-TTL:PT1H
BEGIN:VTIMEZONE
TZID:UTC
BEGIN:STANDARD
TZOFFSETFROM:+0000
TZOFFSETTO:+0000
TZNAME:UTC
DTSTART:20250101T000000
END:STANDARD
END:VTIMEZONE
BEGIN:VEVENT
DTSTART;TZID=UTC:20260418T110000
DTEND;TZID=UTC:20260418T140000
DTSTAMP:20260420T145558
CREATED:20260322T233107Z
LAST-MODIFIED:20260322T233107Z
UID:15151-1776510000-1776520800@www.paddc.org
SUMMARY:FULL SPECTRUM: Exploring the Role of Music in the Autism Community Session 2
DESCRIPTION:Session 2 “Full Spectrum Artist Showcase” – Saturday\, April 18\, 2026 | 11 a.m.–2 p.m.\nThe final day of the series will conclude in two segments with our partners at Band Together Pittsburgh (BTP): An open-mic event where anyone in attendance can participate in music making on stage and a collaborative concert featuring BTP artists who are on the spectrum themselves alongside Mary Pappert School of Music students. Stay for a reception following the concert to interact with members of sponsoring organizations\, discover resources\, and make new connections with fellow guests.
URL:https://www.paddc.org/event/full-spectrum-exploring-the-role-of-music-in-the-autism-community-session-2/
LOCATION:Duquesne University\, 600 Forbes Ave\, Pittsburgh\, PA\, 15282\, United States
CATEGORIES:Workshops,Performance
END:VEVENT
END:VCALENDAR